BEGIN:VCALENDAR
VERSION:2.0
PRODID:badenaktuell.ch
BEGIN:VEVENT
TIMEZONE:Europe/Zurich
UID:51046@badenaktuell.ch
DTSTAMP:20260605T163000Z
DTSTART:20260605T163000Z
DTEND:20260605T191500Z
SUMMARY:25 Jahre Mondrian Ensemble
LOCATION:Hist. Museum Baden\, \nWettingerstrasse 2\, \n5400 Baden
GEO:47.473136,8.310906
DESCRIPTION:Das Jubiläumsprogramm bringt Tradition und Gegenwart in Einklang. Beethoven: Trio in G-Dur Op. 9/1. Elf neue Miniaturen. Jürg Frey: Streichtrio. Zwischen den Teilen: Speis und Trank. Der Vorverkauf wird ausdrücklich empfohlen. Mehr Informationen und Tickets:\n\nQuelle: badenaktuell.ch
END:VEVENT
END:VCALENDAR
