BEGIN:VCALENDAR
VERSION:2.0
PRODID:badenaktuell.ch
BEGIN:VEVENT
TIMEZONE:Europe/Zurich
UID:51044@badenaktuell.ch
DTSTAMP:20261015T170000Z
DTSTART:20261015T170000Z
DTEND:20261015T210000Z
SUMMARY:Miracoolix Spielfachgeschäft Spielabend
LOCATION:Zäni Bar\, \nMittlere Gasse 10\, \n5400 Baden
GEO:47.472483,8.306900
DESCRIPTION:\n\nQuelle: badenaktuell.ch
END:VEVENT
END:VCALENDAR
