BEGIN:VCALENDAR
VERSION:2.0
PRODID:badenaktuell.ch
BEGIN:VEVENT
TIMEZONE:Europe/Zurich
UID:51042@badenaktuell.ch
DTSTAMP:20260506T120000Z
DTSTART:20260506T120000Z
DTEND:20260506T124500Z
SUMMARY:Der Friedensvogel kämpft gegen den bösen König
LOCATION:Reformierte Kirche Baden\, \nBahnhofplatz 6\, \n5400 Baden
GEO:47.4766208,8.3091067
DESCRIPTION:\n\nQuelle: badenaktuell.ch
END:VEVENT
END:VCALENDAR
