BEGIN:VCALENDAR
VERSION:2.0
PRODID:badenaktuell.ch
BEGIN:VEVENT
TIMEZONE:Europe/Zurich
UID:51041@badenaktuell.ch
DTSTAMP:20260426T150000Z
DTSTART:20260426T150000Z
DTEND:20260426T163000Z
SUMMARY:Konzert «40 Jahre Quadrosax»
LOCATION:UnvermeidBAR \, \nRathausgasse 22\, \n5400 Baden
GEO:47.473337,8.308190
DESCRIPTION:\n\nQuelle: badenaktuell.ch
END:VEVENT
END:VCALENDAR
