BEGIN:VCALENDAR
VERSION:2.0
PRODID:badenaktuell.ch
BEGIN:VEVENT
TIMEZONE:Europe/Zurich
UID:51034@badenaktuell.ch
DTSTAMP:20260705T180000Z
DTSTART:20260705T180000Z
DTEND:20260705T200000Z
SUMMARY:Konzert auf dem Triebguet: «Luke Noa»
LOCATION:Triebguet Frischluftbar\, \nKanalstrasse\, \n5400 Baden
GEO:47.471998,8.311332
DESCRIPTION:\n\nQuelle: badenaktuell.ch
END:VEVENT
END:VCALENDAR
