BEGIN:VCALENDAR
VERSION:2.0
PRODID:badenaktuell.ch
BEGIN:VEVENT
TIMEZONE:Europe/Zurich
UID:51030@badenaktuell.ch
DTSTAMP:20260613T080000Z
DTSTART:20260613T080000Z
DTEND:20260613T151500Z
SUMMARY:Kontiki-Tag
LOCATION:Grand Casino Baden\, \nHaselstrasse 2\, \n5400 Baden
GEO:47.478779,8.310354
DESCRIPTION:Entdecken Sie den Norden am Kontiki-Tag: Kurzvorträge\, Filme und Diskussionsrunden erwarten Sie. Oder wie wär’s mit einem Blumenkranz-Workshop für Mittsommer oder einer Runde Mölkky im Park? Der Event findet auch im Kulturhaus Royal statt. Infos und Anmeldung:\n\nQuelle: badenaktuell.ch
END:VEVENT
END:VCALENDAR
