BEGIN:VCALENDAR
VERSION:2.0
PRODID:badenaktuell.ch
BEGIN:VEVENT
TIMEZONE:Europe/Zurich
UID:51029@badenaktuell.ch
DTSTAMP:20260614T150000Z
DTSTART:20260614T150000Z
DTEND:20260614T163000Z
SUMMARY:Michael Heitzler‘s Klezmer Band
LOCATION:Trafo Baden\, \nBrown-Boveri-Platz 1\, \n5400 Baden
GEO:47.478095,8.304609
DESCRIPTION:Die Musiker spielen tiefe\, berührende Musikstücke\, und führen das Publikum mit emotionaler Intensität durch einen eindrucksvollen Abend. Tickets:\n\nQuelle: badenaktuell.ch
END:VEVENT
END:VCALENDAR
