BEGIN:VCALENDAR
VERSION:2.0
PRODID:badenaktuell.ch
BEGIN:VEVENT
TIMEZONE:Europe/Zurich
UID:51026@badenaktuell.ch
DTSTAMP:20260510T090000Z
DTSTART:20260510T090000Z
DTEND:20260510T103000Z
SUMMARY:Theaterstück «Dorcas, die Gazelle»
LOCATION:Kulturcafé Baden\, \nRütistrasse 3a \, \n5400 Baden
GEO:47.474520,8.305897
DESCRIPTION:\n\nQuelle: badenaktuell.ch
END:VEVENT
END:VCALENDAR
