BEGIN:VCALENDAR
VERSION:2.0
PRODID:badenaktuell.ch
BEGIN:VEVENT
TIMEZONE:Europe/Zurich
UID:50912@badenaktuell.ch
DTSTAMP:20261024T053000Z
DTSTART:20261024T053000Z
DTEND:20261024T093000Z
SUMMARY:Wochenmarkt
LOCATION:Innenstadt\, \n\, \n
DESCRIPTION:\n\nQuelle: badenaktuell.ch
END:VEVENT
END:VCALENDAR
