BEGIN:VCALENDAR
VERSION:2.0
PRODID:badenaktuell.ch
BEGIN:VEVENT
TIMEZONE:Europe/Zurich
UID:50890@badenaktuell.ch
DTSTAMP:20260508T150000Z
DTSTART:20260508T150000Z
DTEND:20260508T163000Z
SUMMARY:Vernissage «So weit, so gut»
LOCATION:Merker-Areal\, \nBruggerstrasse 37\, \n5400 Baden
GEO:47.475773,8.304224
DESCRIPTION:\n\nQuelle: badenaktuell.ch
END:VEVENT
END:VCALENDAR
