BEGIN:VCALENDAR
VERSION:2.0
PRODID:badenaktuell.ch
BEGIN:VEVENT
TIMEZONE:Europe/Zurich
UID:49617@badenaktuell.ch
DTSTAMP:20260521T163000Z
DTSTART:20260521T163000Z
DTEND:20260521T193000Z
SUMMARY:Improvisations-Workshop mit Walter Baumgartner und Joe Schwach
LOCATION:Theaterplatz\, \n\, \n5400 Baden
GEO:47.473959,8.308737
DESCRIPTION:\n\nQuelle: badenaktuell.ch
END:VEVENT
END:VCALENDAR
